BEGIN:VCALENDAR
VERSION:2.0
PRODID:-//Freiwillige Feuerwehr Schmedenstedt - ECPv6.15.20//NONSGML v1.0//EN
CALSCALE:GREGORIAN
METHOD:PUBLISH
X-ORIGINAL-URL:https://www.feuerwehr-schmedenstedt.de
X-WR-CALDESC:Veranstaltungen für Freiwillige Feuerwehr Schmedenstedt
REFRESH-INTERVAL;VALUE=DURATION:PT1H
X-Robots-Tag:noindex
X-PUBLISHED-TTL:PT1H
BEGIN:VTIMEZONE
TZID:UTC
BEGIN:STANDARD
TZOFFSETFROM:+0000
TZOFFSETTO:+0000
TZNAME:UTC
DTSTART:20250101T000000
END:STANDARD
END:VTIMEZONE
BEGIN:VEVENT
DTSTART;VALUE=DATE:20260426
DTEND;VALUE=DATE:20260427
DTSTAMP:20260421T124644
CREATED:20260420T130631Z
LAST-MODIFIED:20260420T130637Z
UID:265-1777161600-1777247999@www.feuerwehr-schmedenstedt.de
SUMMARY:19. Wahler Feuerwehrmarsch
DESCRIPTION:
URL:https://www.feuerwehr-schmedenstedt.de/event/19-wahler-feuerwehrmarsch/
CATEGORIES:Einsatzabteilung
END:VEVENT
END:VCALENDAR